BEGIN:VCALENDAR
PRODID:-//kirchenweb.ch gmbh//veranstaltungsausgabe v2.0//DE
VERSION:2.0
METHOD:PUBLISH
BEGIN:VEVENT
DTSTART:20260627T063000Z
DTEND:20260627T100000Z
LOCATION:Orientierungsschule Murten / Cycle d'orientation Morat\, \,
TRANSP:OPAQUE
SEQUENCE:0
UID:3795-veranstaltung@ref-fr.ch
DTSTAMP:20250620T074836Z
DESCRIPTION:Kontakt: jolande.roh@ref-fr.ch\n\nWeitere Infos:
  https://www.ref-fr.ch/veranstaltung/3795
SUMMARY:Gesprächssynode / Synode de discussion
PRIORITY:5
X-MICROSOFT-CDO-IMPORTANCE:1
CLASS:PUBLIC
END:VEVENT
END:VCALENDAR
