BEGIN:VCALENDAR
PRODID:-//kirchenweb.ch gmbh//veranstaltungsausgabe v2.0//DE
VERSION:2.0
METHOD:PUBLISH
BEGIN:VEVENT
DTSTART:20261028T130000Z
DTEND:20261028T170000Z
LOCATION:Saal Lichsteiner\, \,
TRANSP:OPAQUE
SEQUENCE:0
UID:3815-veranstaltung@ref-fr.ch
DTSTAMP:20250620T074242Z
DESCRIPTION:nächste Termine:
 \nhttps://www.ref-fr.ch/?page=suche&sucheTitel=Sitzung
  Synodalrat&sucheTyp=veranstaltungen&sucheZeitFenster=720&sucheDarstellung
 =agenda\n\nKontakt: jolande.roh@ref-fr.ch\n\nWeitere Infos:
  https://www.ref-fr.ch/veranstaltung/3815
SUMMARY:Sitzung Synodalrat / Séance Conseil synodal
PRIORITY:5
X-MICROSOFT-CDO-IMPORTANCE:1
CLASS:PUBLIC
END:VEVENT
END:VCALENDAR
