BEGIN:VCALENDAR
PRODID:-//kirchenweb.ch gmbh//veranstaltungsausgabe v2.0//DE
VERSION:2.0
METHOD:PUBLISH
BEGIN:VEVENT
DTSTART:20261127T071500Z
DTEND:20261127T081500Z
LOCATION:\, \,
TRANSP:OPAQUE
SEQUENCE:0
UID:3833-veranstaltung@ref-fr.ch
DTSTAMP:20251023T092113Z
DESCRIPTION:Kontakt: Past. Martin Nouis\, Co-président\n\n\nWeitere
  Infos: https://www.ref-fr.ch/veranstaltung/3833
SUMMARY:Konvent - Assemblée des ministres
PRIORITY:5
X-MICROSOFT-CDO-IMPORTANCE:1
CLASS:PUBLIC
END:VEVENT
END:VCALENDAR
