BEGIN:VCALENDAR
PRODID:-//kirchenweb.ch gmbh//veranstaltungsausgabe v2.0//DE
VERSION:2.0
METHOD:PUBLISH
BEGIN:VEVENT
DTSTART:20260903T120000Z
DTEND:20260903T150000Z
LOCATION:Saal Lichsteiner\, Prehlstrasse 11\, 3280 Murten
TRANSP:OPAQUE
SEQUENCE:0
UID:3835-veranstaltung@ref-fr.ch
DTSTAMP:20250728T085739Z
DESCRIPTION:Kontakt: jolande.roh@ref-fr.ch\n\nWeitere Infos:
  https://www.ref-fr.ch/veranstaltung/3835
SUMMARY:Ausbildungskurs FriModula
PRIORITY:5
X-MICROSOFT-CDO-IMPORTANCE:1
CLASS:PUBLIC
END:VEVENT
END:VCALENDAR
