BEGIN:VCALENDAR
PRODID:-//kirchenweb.ch gmbh//veranstaltungsausgabe v2.0//DE
VERSION:2.0
METHOD:PUBLISH
BEGIN:VEVENT
DTSTART:20261112T080000Z
DTEND:20261112T160000Z
LOCATION:Saal Lichsteiner\, Prehlstrasse 11\, 3280 Murten
TRANSP:OPAQUE
SEQUENCE:0
UID:3836-veranstaltung@ref-fr.ch
DTSTAMP:20260217T152341Z
DESCRIPTION:Kontakt: jolande.roh@ref-fr.ch\n\nWeitere Infos:
  https://www.ref-fr.ch/veranstaltung/3836
SUMMARY:FriModula  Ausbildung - Liturgie
PRIORITY:5
X-MICROSOFT-CDO-IMPORTANCE:1
CLASS:PUBLIC
END:VEVENT
END:VCALENDAR
