BEGIN:VCALENDAR
PRODID:-//kirchenweb.ch gmbh//veranstaltungsausgabe v2.0//DE
VERSION:2.0
METHOD:PUBLISH
BEGIN:VEVENT
DTSTART:20261204T080000Z
DTEND:20261204T110000Z
LOCATION:Online\, \,
TRANSP:OPAQUE
SEQUENCE:0
UID:3844-veranstaltung@ref-fr.ch
DTSTAMP:20250728T110233Z
DESCRIPTION:Kontakt: jolande.roh@ref-fr.ch\n\nWeitere Infos:
  https://www.ref-fr.ch/veranstaltung/3844
SUMMARY:Konferenz der Kirchenpräsidien (KKP) / Conférence des
  présidents d'Eglises (CPE)
PRIORITY:5
X-MICROSOFT-CDO-IMPORTANCE:1
CLASS:PUBLIC
END:VEVENT
END:VCALENDAR
