BEGIN:VCALENDAR
PRODID:-//kirchenweb.ch gmbh//veranstaltungsausgabe v2.0//DE
VERSION:2.0
METHOD:PUBLISH
BEGIN:VEVENT
DTSTART:20261114T080000Z
DTEND:20261114T150000Z
LOCATION:Grangeneuve\, \,
TRANSP:OPAQUE
SEQUENCE:0
UID:3851-veranstaltung@ref-fr.ch
DTSTAMP:20260217T151611Z
DESCRIPTION:.\n\nKontakt: bildung.formation@ref-fr.ch\n\nWeitere Infos:
  https://www.ref-fr.ch/veranstaltung/3851
SUMMARY:Journée de formation cantonale
PRIORITY:5
X-MICROSOFT-CDO-IMPORTANCE:1
CLASS:PUBLIC
END:VEVENT
END:VCALENDAR
