BEGIN:VCALENDAR
PRODID:-//kirchenweb.ch gmbh//veranstaltungsausgabe v2.0//DE
VERSION:2.0
METHOD:PUBLISH
BEGIN:VEVENT
DTSTART:20260507T170000Z
DTEND:20260507T180000Z
LOCATION:Saal Lichsteiner\, \,
TRANSP:OPAQUE
SEQUENCE:0
UID:3877-veranstaltung@ref-fr.ch
DTSTAMP:20251104T143210Z
DESCRIPTION:Kontakt: jolande.roh@ref-fr.ch\n\nWeitere Infos:
  https://www.ref-fr.ch/veranstaltung/3877
SUMMARY:Finanzkommission - Commission financière
PRIORITY:5
X-MICROSOFT-CDO-IMPORTANCE:1
CLASS:PUBLIC
END:VEVENT
END:VCALENDAR
