BEGIN:VCALENDAR
PRODID:-//kirchenweb.ch gmbh//veranstaltungsausgabe v2.0//DE
VERSION:2.0
METHOD:PUBLISH
BEGIN:VEVENT
DTSTART:20260501T130000Z
DTEND:20260501T140000Z
LOCATION:\, \,
TRANSP:OPAQUE
SEQUENCE:0
UID:4001-veranstaltung@ref-fr.ch
DTSTAMP:20260116T074636Z
DESCRIPTION:Kontakt: jolande.roh@ref-fr.ch\n\nWeitere Infos:
  https://www.ref-fr.ch/veranstaltung/4001
SUMMARY:Retraite Synodalrat / Retraite Conseil synodal
PRIORITY:5
X-MICROSOFT-CDO-IMPORTANCE:1
CLASS:PUBLIC
END:VEVENT
END:VCALENDAR
