BEGIN:VCALENDAR
PRODID:-//kirchenweb.ch gmbh//veranstaltungsausgabe v2.0//DE
VERSION:2.0
METHOD:PUBLISH
BEGIN:VEVENT
DTSTART:20260520T110000Z
DTEND:20260520T120000Z
LOCATION:Online\, \,
TRANSP:OPAQUE
SEQUENCE:0
UID:4007-veranstaltung@ref-fr.ch
DTSTAMP:20260116T091914Z
DESCRIPTION:Kontakt: jolande.roh@ref-fr.ch\n\nWeitere Infos:
  https://www.ref-fr.ch/veranstaltung/4007
SUMMARY:Vorbereitungsgruppe Gesprächssynode 2026 / Groupe de préparation
  Synode de discussion 2026
PRIORITY:5
X-MICROSOFT-CDO-IMPORTANCE:1
CLASS:PUBLIC
END:VEVENT
END:VCALENDAR
