BEGIN:VCALENDAR
PRODID:-//kirchenweb.ch gmbh//veranstaltungsausgabe v2.0//DE
VERSION:2.0
METHOD:PUBLISH
BEGIN:VEVENT
DTSTART:20260512T063000Z
DTEND:20260512T103000Z
LOCATION:Prehlstrasse Murten\, \,
TRANSP:OPAQUE
SEQUENCE:0
UID:4010-veranstaltung@ref-fr.ch
DTSTAMP:20260305T072203Z
DESCRIPTION:Kontakt: jolande.roh@ref-fr.ch\n\nWeitere Infos:
  https://www.ref-fr.ch/veranstaltung/4010
SUMMARY:Ordinationskommission
PRIORITY:5
X-MICROSOFT-CDO-IMPORTANCE:1
CLASS:PUBLIC
END:VEVENT
END:VCALENDAR
