BEGIN:VCALENDAR
PRODID:-//kirchenweb.ch gmbh//veranstaltungsausgabe v2.0//DE
VERSION:2.0
METHOD:PUBLISH
BEGIN:VEVENT
DTSTART:20260622T070000Z
DTEND:20260622T150000Z
LOCATION:Crêt-Bérard\, \,
TRANSP:OPAQUE
SEQUENCE:0
UID:4029-veranstaltung@ref-fr.ch
DTSTAMP:20260202T130442Z
DESCRIPTION:Kontakt: jolande.roh@ref-fr.ch\n\nWeitere Infos:
  https://www.ref-fr.ch/veranstaltung/4029
SUMMARY:AG CER
PRIORITY:5
X-MICROSOFT-CDO-IMPORTANCE:1
CLASS:PUBLIC
END:VEVENT
END:VCALENDAR
